BEGIN:VCALENDAR
VERSION:2.0
PRODID:-//Word Life Connection - ECPv6.13.2.1//NONSGML v1.0//EN
CALSCALE:GREGORIAN
METHOD:PUBLISH
X-WR-CALNAME:Word Life Connection
X-ORIGINAL-URL:http://wordlifeconnection.org
X-WR-CALDESC:Events for Word Life Connection
REFRESH-INTERVAL;VALUE=DURATION:PT1H
X-Robots-Tag:noindex
X-PUBLISHED-TTL:PT1H
BEGIN:VTIMEZONE
TZID:America/New_York
BEGIN:DAYLIGHT
TZOFFSETFROM:-0500
TZOFFSETTO:-0400
TZNAME:EDT
DTSTART:20180311T070000
END:DAYLIGHT
BEGIN:STANDARD
TZOFFSETFROM:-0400
TZOFFSETTO:-0500
TZNAME:EST
DTSTART:20181104T060000
END:STANDARD
END:VTIMEZONE
BEGIN:VEVENT
DTSTART;TZID=America/New_York:20180802T200000
DTEND;TZID=America/New_York:20180802T210000
DTSTAMP:20260424T160717
CREATED:20180301T151520Z
LAST-MODIFIED:20180301T151520Z
UID:1028-1533240000-1533243600@wordlifeconnection.org
SUMMARY:Live Webcast
DESCRIPTION:Live Webcast – Subject to be Announced
URL:http://wordlifeconnection.org/event/live-webcast-7/
LOCATION:FL
END:VEVENT
BEGIN:VEVENT
DTSTART;TZID=America/New_York:20180726T200000
DTEND;TZID=America/New_York:20180726T210000
DTSTAMP:20260424T160717
CREATED:20180301T144958Z
LAST-MODIFIED:20180405T225814Z
UID:1013-1532635200-1532638800@wordlifeconnection.org
SUMMARY:Live Webcast
DESCRIPTION:Live Webcast – Subject to be Announced
URL:http://wordlifeconnection.org/event/live-webcast-2/
LOCATION:FL
END:VEVENT
BEGIN:VEVENT
DTSTART;TZID=America/New_York:20180719T200000
DTEND;TZID=America/New_York:20180719T210000
DTSTAMP:20260424T160717
CREATED:20180301T151328Z
LAST-MODIFIED:20180301T151328Z
UID:1026-1532030400-1532034000@wordlifeconnection.org
SUMMARY:Live Webcast
DESCRIPTION:Live Webcast – Subject to be Announced
URL:http://wordlifeconnection.org/event/live-webcast-6/
LOCATION:FL
END:VEVENT
BEGIN:VEVENT
DTSTART;TZID=America/New_York:20180712T200000
DTEND;TZID=America/New_York:20180712T210000
DTSTAMP:20260424T160717
CREATED:20180301T151036Z
LAST-MODIFIED:20180301T151036Z
UID:1024-1531425600-1531429200@wordlifeconnection.org
SUMMARY:Live Webcast
DESCRIPTION:Live Webcast – Subject to be Announced
URL:http://wordlifeconnection.org/event/live-webcast-5/
LOCATION:FL
END:VEVENT
BEGIN:VEVENT
DTSTART;TZID=America/New_York:20180630T083000
DTEND;TZID=America/New_York:20180630T120000
DTSTAMP:20260424T160717
CREATED:20180607T163327Z
LAST-MODIFIED:20180620T210317Z
UID:1111-1530347400-1530360000@wordlifeconnection.org
SUMMARY:Live Seminar - What Does the New Tax Law Mean to Me?
DESCRIPTION:In this live seminar\, we will teach you how to proactively plan for the impact of the new tax law! You will learn about the major changes to the US Tax Code that went into effect January 1\, 2018\, including changes to: \n\nTax Rates\nStandard Deduction and Exemptions\nChild and Family Tax Credit\nState and Local Taxes\nMortgage Interest / Interest on Lines of Credit\nHealthcare Individual Mandate\n\nCost (includes materials and refreshments): \nPre-registration: $40 \nAt the Door: $50 \nFor more information\, please contact us at: (954) 358-5318  or info@wordlifeconnection.org
URL:http://wordlifeconnection.org/event/seminar-what-does-the-new-tax-law-mean-to-me/
LOCATION:Cooper City Church of God\, 9191 Stirling Road\, Cooper City\, FL\, 33328\, US
END:VEVENT
BEGIN:VEVENT
DTSTART;TZID=America/New_York:20180628T200000
DTEND;TZID=America/New_York:20180628T210000
DTSTAMP:20260424T160717
CREATED:20180301T144117Z
LAST-MODIFIED:20180606T195056Z
UID:1006-1530216000-1530219600@wordlifeconnection.org
SUMMARY:Live Webcast - The Commission
DESCRIPTION:In this session\, you’ll be inspired as our founder\, Rodrick Walters\, shares the culmination of the 23 year journey from the call of God to the commission to do His work – the establishment of Word Life Connection\, Inc. For your own life\, you’ll be changed by these words from God\, “I am the God who keeps His promises! I am the God who keeps His promises!” No matter the hardships you’ve been through\, you’ll be encouraged to embrace His great promises for you and you’ll see Him hold your hand while He brings them to pass! Please don’t miss this life-changing session! It’s custom-designed for you!
URL:http://wordlifeconnection.org/event/the-commission/
LOCATION:FL
END:VEVENT
BEGIN:VEVENT
DTSTART;TZID=America/New_York:20180621T200000
DTEND;TZID=America/New_York:20180621T210000
DTSTAMP:20260424T160717
CREATED:20180301T142447Z
LAST-MODIFIED:20180606T194233Z
UID:1002-1529611200-1529614800@wordlifeconnection.org
SUMMARY:Live Webcast - The Preparation
DESCRIPTION:In this webcast\, you will be empowered to embrace the scars that you have along your journey. Founder\, Rodrick Walters\, will share some of the challenges He had as God prepared him for his life assignment. You’ll see that the setbacks you might have had that caused you to be discouraged\, were simply short-term training tools\, meant to strengthen you to reach greater heights than you would’ve reached otherwise! If you’ve received a promise from God but you’ve yet to see it come to pass\, this session is for you!
URL:http://wordlifeconnection.org/event/the-preparation/
LOCATION:FL
END:VEVENT
BEGIN:VEVENT
DTSTART;TZID=America/New_York:20180614T200000
DTEND;TZID=America/New_York:20180614T210000
DTSTAMP:20260424T160717
CREATED:20180405T225158Z
LAST-MODIFIED:20180606T191637Z
UID:1063-1529006400-1529010000@wordlifeconnection.org
SUMMARY:Live Webcast - The Call of God
DESCRIPTION:In this broadcast\, founder Rodrick Walters will share His call from God to establish Word Life Connection as a tool to empower you to great works. You’ll learn that no matter how you see yourself – with shortcomings and all – God sees you as a mighty warrior; one who He can use to do great works for Him! You’ll be encouraged to go to Him for your life assignment and then embark on a life-changing journey!
URL:http://wordlifeconnection.org/event/the-call-of-god/
LOCATION:FL
END:VEVENT
BEGIN:VEVENT
DTSTART;TZID=America/New_York:20180607T200000
DTEND;TZID=America/New_York:20180607T210000
DTSTAMP:20260424T160717
CREATED:20180228T050029Z
LAST-MODIFIED:20180606T190607Z
UID:998-1528401600-1528405200@wordlifeconnection.org
SUMMARY:Live Webcast - Changing Your World with the Word by Rodrick Walters
DESCRIPTION:In this\, the first of our weekly webcasts\, founder Rodrick Walters will give an overview of the organization and our mandate to empower believers with the transformative principles of the Word of God. You’ll learn of the 2 decade-long journey it took to establish this organization. You see that our purpose is to equip you with the tools to live a life of meaning and purpose. Don’t miss this life-changing experience as God connects your daily life to His timeless\, unchanging Word!
URL:http://wordlifeconnection.org/event/changing-your-world-with-the-word/
LOCATION:FL
END:VEVENT
BEGIN:VEVENT
DTSTART;TZID=America/New_York:20180525T193000
DTEND;TZID=America/New_York:20180525T213000
DTSTAMP:20260424T160717
CREATED:20180301T150307Z
LAST-MODIFIED:20180421T074514Z
UID:1015-1527276600-1527283800@wordlifeconnection.org
SUMMARY:Organization Launch Event!
DESCRIPTION:Join us for this FREE event as we officially launch our organization! You’ll enjoy live worship\, special presentations and an overview of the organization’s mission and purpose by founder\, Rodrick Walters. Come kick-off the Memorial Day weekend with us as we gear up for a summer filled with life-changing events!
URL:http://wordlifeconnection.org/event/launch/
LOCATION:Cooper City Church of God\, 9191 Stirling Road\, Cooper City\, FL\, 33328\, US
END:VEVENT
END:VCALENDAR